BEGIN:VCALENDAR
VERSION:2.0
PRODID:-//Flexiforum - ECPv6.15.15//NONSGML v1.0//EN
CALSCALE:GREGORIAN
METHOD:PUBLISH
X-WR-CALNAME:Flexiforum
X-ORIGINAL-URL:https://flexischerm.nl
X-WR-CALDESC:Evenementen voor Flexiforum
REFRESH-INTERVAL;VALUE=DURATION:PT1H
X-Robots-Tag:noindex
X-PUBLISHED-TTL:PT1H
BEGIN:VTIMEZONE
TZID:Europe/Amsterdam
BEGIN:DAYLIGHT
TZOFFSETFROM:+0100
TZOFFSETTO:+0200
TZNAME:CEST
DTSTART:20250330T010000
END:DAYLIGHT
BEGIN:STANDARD
TZOFFSETFROM:+0200
TZOFFSETTO:+0100
TZNAME:CET
DTSTART:20251026T010000
END:STANDARD
BEGIN:DAYLIGHT
TZOFFSETFROM:+0100
TZOFFSETTO:+0200
TZNAME:CEST
DTSTART:20260329T010000
END:DAYLIGHT
BEGIN:STANDARD
TZOFFSETFROM:+0200
TZOFFSETTO:+0100
TZNAME:CET
DTSTART:20261025T010000
END:STANDARD
BEGIN:DAYLIGHT
TZOFFSETFROM:+0100
TZOFFSETTO:+0200
TZNAME:CEST
DTSTART:20270328T010000
END:DAYLIGHT
BEGIN:STANDARD
TZOFFSETFROM:+0200
TZOFFSETTO:+0100
TZNAME:CET
DTSTART:20271031T010000
END:STANDARD
END:VTIMEZONE
BEGIN:VEVENT
DTSTART;TZID=Europe/Amsterdam:20260514T090000
DTEND;TZID=Europe/Amsterdam:20260514T120000
DTSTAMP:20260421T012145
CREATED:20260305T125125Z
LAST-MODIFIED:20260305T125125Z
UID:1832-1778749200-1778760000@flexischerm.nl
SUMMARY:Euregionale Banenmarkt
DESCRIPTION:
URL:https://flexischerm.nl/event/euregionale-banenmarkt/
END:VEVENT
BEGIN:VEVENT
DTSTART;VALUE=DATE:20260607
DTEND;VALUE=DATE:20260608
DTSTAMP:20260421T012145
CREATED:20260305T125129Z
LAST-MODIFIED:20260305T130541Z
UID:1833-1780790400-1780876799@flexischerm.nl
SUMMARY:Dansvoorstelling SMK
DESCRIPTION:
URL:https://flexischerm.nl/event/dansvoorstelling-smk/
END:VEVENT
BEGIN:VEVENT
DTSTART;VALUE=DATE:20260618
DTEND;VALUE=DATE:20260619
DTSTAMP:20260421T012145
CREATED:20260305T125129Z
LAST-MODIFIED:20260305T130544Z
UID:1834-1781740800-1781827199@flexischerm.nl
SUMMARY:Voetbaltoernooi Jan Baptist
DESCRIPTION:
URL:https://flexischerm.nl/event/voetbaltoernooi-jan-baptist/
END:VEVENT
BEGIN:VEVENT
DTSTART;VALUE=DATE:20260620
DTEND;VALUE=DATE:20260621
DTSTAMP:20260421T012145
CREATED:20260305T125129Z
LAST-MODIFIED:20260305T130551Z
UID:1835-1781913600-1781999999@flexischerm.nl
SUMMARY:TCGquest Pokemonbeurs
DESCRIPTION:
URL:https://flexischerm.nl/event/tcgquest-pokemonbeurs/
END:VEVENT
BEGIN:VEVENT
DTSTART;TZID=Europe/Amsterdam:20260815T150000
DTEND;TZID=Europe/Amsterdam:20260815T220000
DTSTAMP:20260421T012145
CREATED:20260305T125129Z
LAST-MODIFIED:20260305T125129Z
UID:1836-1786806000-1786831200@flexischerm.nl
SUMMARY:Palooza
DESCRIPTION:
URL:https://flexischerm.nl/event/palooza/
END:VEVENT
BEGIN:VEVENT
DTSTART;TZID=Europe/Amsterdam:20260906T100000
DTEND;TZID=Europe/Amsterdam:20260906T150000
DTSTAMP:20260421T012145
CREATED:20260305T125129Z
LAST-MODIFIED:20260305T125129Z
UID:1837-1788688800-1788706800@flexischerm.nl
SUMMARY:Open dag Vrije Akademie
DESCRIPTION:
URL:https://flexischerm.nl/event/open-dag-vrije-akademie/
END:VEVENT
BEGIN:VEVENT
DTSTART;VALUE=DATE:20260919
DTEND;VALUE=DATE:20260920
DTSTAMP:20260421T012145
CREATED:20260305T125144Z
LAST-MODIFIED:20260305T130553Z
UID:1838-1789776000-1789862399@flexischerm.nl
SUMMARY:Flexirock
DESCRIPTION:
URL:https://flexischerm.nl/event/flexirock/
END:VEVENT
BEGIN:VEVENT
DTSTART;TZID=Europe/Amsterdam:20260924T120000
DTEND;TZID=Europe/Amsterdam:20260924T190000
DTSTAMP:20260421T012145
CREATED:20260305T125144Z
LAST-MODIFIED:20260305T125144Z
UID:1839-1790251200-1790276400@flexischerm.nl
SUMMARY:Eurode Messe
DESCRIPTION:
URL:https://flexischerm.nl/event/eurode-messe/
END:VEVENT
BEGIN:VEVENT
DTSTART;VALUE=DATE:20260927
DTEND;VALUE=DATE:20260928
DTSTAMP:20260421T012145
CREATED:20260305T125144Z
LAST-MODIFIED:20260420T070434Z
UID:1840-1790467200-1790553599@flexischerm.nl
SUMMARY:KSO jeugd Play-in
DESCRIPTION:
URL:https://flexischerm.nl/event/kso-jeugd-play-in/
END:VEVENT
BEGIN:VEVENT
DTSTART;VALUE=DATE:20261003
DTEND;VALUE=DATE:20261004
DTSTAMP:20260421T012145
CREATED:20260305T125144Z
LAST-MODIFIED:20260305T130637Z
UID:1841-1790985600-1791071999@flexischerm.nl
SUMMARY:Concert Harmonie Kaalheide
DESCRIPTION:
URL:https://flexischerm.nl/event/concert-harmonie-kaalheide/
END:VEVENT
BEGIN:VEVENT
DTSTART;VALUE=DATE:20261007
DTEND;VALUE=DATE:20261008
DTSTAMP:20260421T012145
CREATED:20260305T125144Z
LAST-MODIFIED:20260305T130605Z
UID:1842-1791331200-1791417599@flexischerm.nl
SUMMARY:Ruilbeurs Kinderboekenweek
DESCRIPTION:
URL:https://flexischerm.nl/event/ruilbeurs-kinderboekenweek/
END:VEVENT
BEGIN:VEVENT
DTSTART;TZID=Europe/Amsterdam:20261010T000000
DTEND;TZID=Europe/Amsterdam:20261010T000000
DTSTAMP:20260421T012145
CREATED:20260305T125328Z
LAST-MODIFIED:20260305T125328Z
UID:1843-1791590400-1791590400@flexischerm.nl
SUMMARY:Internationaal Schaaktoernooi
DESCRIPTION:
URL:https://flexischerm.nl/event/internationaal-schaaktoernooi/
END:VEVENT
BEGIN:VEVENT
DTSTART;TZID=Europe/Amsterdam:20261129T110000
DTEND;TZID=Europe/Amsterdam:20261129T160000
DTSTAMP:20260421T012145
CREATED:20260305T125328Z
LAST-MODIFIED:20260305T125328Z
UID:1844-1795950000-1795968000@flexischerm.nl
SUMMARY:Kerstmarkt Flexiforum (ovb)
DESCRIPTION:
URL:https://flexischerm.nl/event/kerstmarkt-flexiforum-ovb/
END:VEVENT
BEGIN:VEVENT
DTSTART;VALUE=DATE:20261219
DTEND;VALUE=DATE:20261220
DTSTAMP:20260421T012145
CREATED:20260305T125328Z
LAST-MODIFIED:20260305T130556Z
UID:1845-1797638400-1797724799@flexischerm.nl
SUMMARY:Kerstconcert Revi Music
DESCRIPTION:
URL:https://flexischerm.nl/event/kerstconcert-revi-music/
END:VEVENT
END:VCALENDAR